BEGIN:VCALENDAR
VERSION:2.0
PRODID:-//CCRESA - ECPv6.15.13.1//NONSGML v1.0//EN
CALSCALE:GREGORIAN
METHOD:PUBLISH
X-ORIGINAL-URL:https://www.ccresa.net
X-WR-CALDESC:Events for CCRESA
REFRESH-INTERVAL;VALUE=DURATION:PT1H
X-Robots-Tag:noindex
X-PUBLISHED-TTL:PT1H
BEGIN:VTIMEZONE
TZID:America/New_York
BEGIN:DAYLIGHT
TZOFFSETFROM:-0500
TZOFFSETTO:-0400
TZNAME:EDT
DTSTART:20220313T070000
END:DAYLIGHT
BEGIN:STANDARD
TZOFFSETFROM:-0400
TZOFFSETTO:-0500
TZNAME:EST
DTSTART:20221106T060000
END:STANDARD
BEGIN:DAYLIGHT
TZOFFSETFROM:-0500
TZOFFSETTO:-0400
TZNAME:EDT
DTSTART:20230312T070000
END:DAYLIGHT
BEGIN:STANDARD
TZOFFSETFROM:-0400
TZOFFSETTO:-0500
TZNAME:EST
DTSTART:20231105T060000
END:STANDARD
BEGIN:DAYLIGHT
TZOFFSETFROM:-0500
TZOFFSETTO:-0400
TZNAME:EDT
DTSTART:20240310T070000
END:DAYLIGHT
BEGIN:STANDARD
TZOFFSETFROM:-0400
TZOFFSETTO:-0500
TZNAME:EST
DTSTART:20241103T060000
END:STANDARD
END:VTIMEZONE
BEGIN:VEVENT
DTSTART;TZID=America/New_York:20231020T090000
DTEND;TZID=America/New_York:20231020T153000
DTSTAMP:20260420T053406
CREATED:20230822T182225Z
LAST-MODIFIED:20230822T182351Z
UID:9906-1697792400-1697815800@www.ccresa.net
SUMMARY:High School MTSS
DESCRIPTION:NCDPI will facilitate this session on High School Multi-Tiered System of Support. \n  \n\n\n                \n                        \n                            Meeting Registration Form\n                             \n                        \n                        CompanyThis field is for validation purposes and should be left unchanged.This field is hidden when viewing the formMeeting TitleThis field is hidden when viewing the formMeeting TypeThis field is hidden when viewing the formMeeting DateThis field is hidden when viewing the formMeeting IDThis field is hidden when viewing the formMeeting TimeThis field is hidden when viewing the formMeeting LocationPlease Note: This meeting is now full. You may still register and your name will be added to the waiting list.Name*\n                            \n                            \n                                                    \n                                                    First\n                                                \n                            \n                            \n                                                    \n                                                    Last\n                                                \n                            \n                        Email*\n                                \n                                    \n                                    Enter Email\n                                \n                                \n                                    \n                                    Confirm Email\n                                \n                                \n                            District/Organization*Select OneAlamance Burlington School SystemBeaufort County SchoolsChapel Hill-Carrboro City SchoolsChatham CountyDurham CountyEdgecombe CountyFranklin CountyGranville CountyGreene CountyHarnett CountyJohnston CountyNash-Rocky MountNorthampton CountyOrange CountyPerson CountyPitt CountyRoanoke Rapids Graded SchoolsVance CountyWake CountyWarren CountyWilson CountySchools for the Deaf & BlindNorth Carolina School of Science & MathematicsEast Carolina University College of EducationNC State UniversityUniversity of North CarolinaDepartment of Public InstructionOther District / Organization*Job Title*This field is hidden when viewing the formWaitlist?Shipping Address    \n                    \n                         \n                                        \n                                        Street Address\n                                    \n                                        \n                                        Address Line 2\n                                    \n                                    \n                                    City\n                                 \n                                        AlabamaAlaskaAmerican SamoaArizonaArkansasCaliforniaColoradoConnecticutDelawareDistrict of ColumbiaFloridaGeorgiaGuamHawaiiIdahoIllinoisIndianaIowaKansasKentuckyLouisianaMaineMarylandMassachusettsMichiganMinnesotaMississippiMissouriMontanaNebraskaNevadaNew HampshireNew JerseyNew MexicoNew YorkNorth CarolinaNorth DakotaNorthern Mariana IslandsOhioOklahomaOregonPennsylvaniaPuerto RicoRhode IslandSouth CarolinaSouth DakotaTennesseeTexasUtahU.S. Virgin IslandsVermontVirginiaWashingtonWest VirginiaWisconsinWyomingArmed Forces AmericasArmed Forces EuropeArmed Forces Pacific\n                                        State\n                                      \n                                    \n                                    ZIP Code\n                                \n                    \n                Clear form\n          \n            \n            \n            \n            \n            \n            \n            \n            \n            \n            \n            \n            \n            \n        \n                        Δ
URL:https://www.ccresa.net/session/high-school-mtss/2023-10-20/
LOCATION:NCSBA Assembly Hall\, 7208 Falls of Neuse Rd.\, Raleigh\, NC\, 27615
GEO:35.8830351;-78.6261732
X-APPLE-STRUCTURED-LOCATION;VALUE=URI;X-ADDRESS=NCSBA Assembly Hall 7208 Falls of Neuse Rd. Raleigh NC 27615;X-APPLE-RADIUS=500;X-TITLE=7208 Falls of Neuse Rd.:geo:-78.6261732,35.8830351
END:VEVENT
END:VCALENDAR