BEGIN:VCALENDAR
VERSION:2.0
PRODID:-//CCRESA - ECPv6.15.13.1//NONSGML v1.0//EN
CALSCALE:GREGORIAN
METHOD:PUBLISH
X-ORIGINAL-URL:https://www.ccresa.net
X-WR-CALDESC:Events for CCRESA
REFRESH-INTERVAL;VALUE=DURATION:PT1H
X-Robots-Tag:noindex
X-PUBLISHED-TTL:PT1H
BEGIN:VTIMEZONE
TZID:America/New_York
BEGIN:DAYLIGHT
TZOFFSETFROM:-0500
TZOFFSETTO:-0400
TZNAME:EDT
DTSTART:20160313T070000
END:DAYLIGHT
BEGIN:STANDARD
TZOFFSETFROM:-0400
TZOFFSETTO:-0500
TZNAME:EST
DTSTART:20161106T060000
END:STANDARD
BEGIN:DAYLIGHT
TZOFFSETFROM:-0500
TZOFFSETTO:-0400
TZNAME:EDT
DTSTART:20170312T070000
END:DAYLIGHT
BEGIN:STANDARD
TZOFFSETFROM:-0400
TZOFFSETTO:-0500
TZNAME:EST
DTSTART:20171105T060000
END:STANDARD
BEGIN:DAYLIGHT
TZOFFSETFROM:-0500
TZOFFSETTO:-0400
TZNAME:EDT
DTSTART:20180311T070000
END:DAYLIGHT
BEGIN:STANDARD
TZOFFSETFROM:-0400
TZOFFSETTO:-0500
TZNAME:EST
DTSTART:20181104T060000
END:STANDARD
BEGIN:DAYLIGHT
TZOFFSETFROM:-0500
TZOFFSETTO:-0400
TZNAME:EDT
DTSTART:20190310T070000
END:DAYLIGHT
BEGIN:STANDARD
TZOFFSETFROM:-0400
TZOFFSETTO:-0500
TZNAME:EST
DTSTART:20191103T060000
END:STANDARD
END:VTIMEZONE
BEGIN:VEVENT
DTSTART;TZID=America/New_York:20180517T170000
DTEND;TZID=America/New_York:20180517T170000
DTSTAMP:20260420T090302
CREATED:20170714T131037Z
LAST-MODIFIED:20170811T171213Z
UID:7672-1526576400-1526576400@www.ccresa.net
SUMMARY:Foundations Session 16
DESCRIPTION:
URL:https://www.ccresa.net/session/foundations-session-16-4/
LOCATION:Clayton High School\, 600 S. Fayetteville St.\, Clayton\, NC\, 27520
CATEGORIES:Cohort #3
GEO:35.649933;-78.4653372
X-APPLE-STRUCTURED-LOCATION;VALUE=URI;X-ADDRESS=Clayton High School 600 S. Fayetteville St. Clayton NC 27520;X-APPLE-RADIUS=500;X-TITLE=600 S. Fayetteville St.:geo:-78.4653372,35.649933
END:VEVENT
BEGIN:VEVENT
DTSTART;TZID=America/New_York:20180503T170000
DTEND;TZID=America/New_York:20180503T193000
DTSTAMP:20260420T090302
CREATED:20170714T130956Z
LAST-MODIFIED:20170811T171110Z
UID:7671-1525366800-1525375800@www.ccresa.net
SUMMARY:Foundations Session 15
DESCRIPTION:
URL:https://www.ccresa.net/session/foundations-session-15-4/
LOCATION:Clayton High School\, 600 S. Fayetteville St.\, Clayton\, NC\, 27520
CATEGORIES:Cohort #3
GEO:35.649933;-78.4653372
X-APPLE-STRUCTURED-LOCATION;VALUE=URI;X-ADDRESS=Clayton High School 600 S. Fayetteville St. Clayton NC 27520;X-APPLE-RADIUS=500;X-TITLE=600 S. Fayetteville St.:geo:-78.4653372,35.649933
END:VEVENT
BEGIN:VEVENT
DTSTART;TZID=America/New_York:20180419T170000
DTEND;TZID=America/New_York:20180419T193000
DTSTAMP:20260420T090302
CREATED:20170714T130909Z
LAST-MODIFIED:20170811T171011Z
UID:7670-1524157200-1524166200@www.ccresa.net
SUMMARY:Foundations Session 14
DESCRIPTION:
URL:https://www.ccresa.net/session/foundations-session-14-4/
LOCATION:Clayton High School\, 600 S. Fayetteville St.\, Clayton\, NC\, 27520
CATEGORIES:Cohort #3
GEO:35.649933;-78.4653372
X-APPLE-STRUCTURED-LOCATION;VALUE=URI;X-ADDRESS=Clayton High School 600 S. Fayetteville St. Clayton NC 27520;X-APPLE-RADIUS=500;X-TITLE=600 S. Fayetteville St.:geo:-78.4653372,35.649933
END:VEVENT
BEGIN:VEVENT
DTSTART;TZID=America/New_York:20180329T170000
DTEND;TZID=America/New_York:20180329T193000
DTSTAMP:20260420T090302
CREATED:20170714T130822Z
LAST-MODIFIED:20170811T170910Z
UID:7669-1522342800-1522351800@www.ccresa.net
SUMMARY:Foundations Session 13
DESCRIPTION:
URL:https://www.ccresa.net/session/foundations-session-13-4/
LOCATION:Clayton High School\, 600 S. Fayetteville St.\, Clayton\, NC\, 27520
CATEGORIES:Cohort #3
GEO:35.649933;-78.4653372
X-APPLE-STRUCTURED-LOCATION;VALUE=URI;X-ADDRESS=Clayton High School 600 S. Fayetteville St. Clayton NC 27520;X-APPLE-RADIUS=500;X-TITLE=600 S. Fayetteville St.:geo:-78.4653372,35.649933
END:VEVENT
BEGIN:VEVENT
DTSTART;TZID=America/New_York:20180301T170000
DTEND;TZID=America/New_York:20180301T193000
DTSTAMP:20260420T090302
CREATED:20170714T130722Z
LAST-MODIFIED:20170811T170808Z
UID:7668-1519923600-1519932600@www.ccresa.net
SUMMARY:Foundations Session 11
DESCRIPTION:
URL:https://www.ccresa.net/session/foundations-session-11-4/
LOCATION:Clayton High School\, 600 S. Fayetteville St.\, Clayton\, NC\, 27520
CATEGORIES:Cohort #3
GEO:35.649933;-78.4653372
X-APPLE-STRUCTURED-LOCATION;VALUE=URI;X-ADDRESS=Clayton High School 600 S. Fayetteville St. Clayton NC 27520;X-APPLE-RADIUS=500;X-TITLE=600 S. Fayetteville St.:geo:-78.4653372,35.649933
END:VEVENT
BEGIN:VEVENT
DTSTART;TZID=America/New_York:20180201T170000
DTEND;TZID=America/New_York:20180201T193000
DTSTAMP:20260420T090302
CREATED:20170714T130638Z
LAST-MODIFIED:20170811T170708Z
UID:7667-1517504400-1517513400@www.ccresa.net
SUMMARY:Foundations Session 10
DESCRIPTION:
URL:https://www.ccresa.net/session/foundations-session-10-4/
LOCATION:Clayton High School\, 600 S. Fayetteville St.\, Clayton\, NC\, 27520
CATEGORIES:Cohort #3
GEO:35.649933;-78.4653372
X-APPLE-STRUCTURED-LOCATION;VALUE=URI;X-ADDRESS=Clayton High School 600 S. Fayetteville St. Clayton NC 27520;X-APPLE-RADIUS=500;X-TITLE=600 S. Fayetteville St.:geo:-78.4653372,35.649933
END:VEVENT
BEGIN:VEVENT
DTSTART;TZID=America/New_York:20180118T170000
DTEND;TZID=America/New_York:20180118T193000
DTSTAMP:20260420T090302
CREATED:20170714T130557Z
LAST-MODIFIED:20170811T170545Z
UID:7666-1516294800-1516303800@www.ccresa.net
SUMMARY:Foundations Session 9
DESCRIPTION:
URL:https://www.ccresa.net/session/foundations-session-9-4/
LOCATION:Clayton High School\, 600 S. Fayetteville St.\, Clayton\, NC\, 27520
CATEGORIES:Cohort #3
GEO:35.649933;-78.4653372
X-APPLE-STRUCTURED-LOCATION;VALUE=URI;X-ADDRESS=Clayton High School 600 S. Fayetteville St. Clayton NC 27520;X-APPLE-RADIUS=500;X-TITLE=600 S. Fayetteville St.:geo:-78.4653372,35.649933
END:VEVENT
BEGIN:VEVENT
DTSTART;TZID=America/New_York:20171214T170000
DTEND;TZID=America/New_York:20171214T193000
DTSTAMP:20260420T090302
CREATED:20170714T130512Z
LAST-MODIFIED:20170811T170221Z
UID:7665-1513270800-1513279800@www.ccresa.net
SUMMARY:Foundations Session 8
DESCRIPTION:
URL:https://www.ccresa.net/session/foundations-session-8-4/
LOCATION:Clayton High School\, 600 S. Fayetteville St.\, Clayton\, NC\, 27520
CATEGORIES:Cohort #3
GEO:35.649933;-78.4653372
X-APPLE-STRUCTURED-LOCATION;VALUE=URI;X-ADDRESS=Clayton High School 600 S. Fayetteville St. Clayton NC 27520;X-APPLE-RADIUS=500;X-TITLE=600 S. Fayetteville St.:geo:-78.4653372,35.649933
END:VEVENT
BEGIN:VEVENT
DTSTART;TZID=America/New_York:20171130T170000
DTEND;TZID=America/New_York:20171130T193000
DTSTAMP:20260420T090302
CREATED:20170714T130217Z
LAST-MODIFIED:20170811T170117Z
UID:7663-1512061200-1512070200@www.ccresa.net
SUMMARY:Foundations Session 7
DESCRIPTION:
URL:https://www.ccresa.net/session/foundations-7/
LOCATION:Clayton High School\, 600 S. Fayetteville St.\, Clayton\, NC\, 27520
CATEGORIES:Cohort #3
GEO:35.649933;-78.4653372
X-APPLE-STRUCTURED-LOCATION;VALUE=URI;X-ADDRESS=Clayton High School 600 S. Fayetteville St. Clayton NC 27520;X-APPLE-RADIUS=500;X-TITLE=600 S. Fayetteville St.:geo:-78.4653372,35.649933
END:VEVENT
BEGIN:VEVENT
DTSTART;TZID=America/New_York:20171109T170000
DTEND;TZID=America/New_York:20171109T193000
DTSTAMP:20260420T090302
CREATED:20170714T125719Z
LAST-MODIFIED:20170811T170018Z
UID:7662-1510246800-1510255800@www.ccresa.net
SUMMARY:Foundations Session 6
DESCRIPTION:
URL:https://www.ccresa.net/session/foundations-session-6-4/
LOCATION:Clayton High School\, 600 S. Fayetteville St.\, Clayton\, NC\, 27520
CATEGORIES:Cohort #3
GEO:35.649933;-78.4653372
X-APPLE-STRUCTURED-LOCATION;VALUE=URI;X-ADDRESS=Clayton High School 600 S. Fayetteville St. Clayton NC 27520;X-APPLE-RADIUS=500;X-TITLE=600 S. Fayetteville St.:geo:-78.4653372,35.649933
END:VEVENT
BEGIN:VEVENT
DTSTART;TZID=America/New_York:20171026T170000
DTEND;TZID=America/New_York:20171026T200000
DTSTAMP:20260420T090302
CREATED:20170714T124756Z
LAST-MODIFIED:20170811T165854Z
UID:7661-1509037200-1509048000@www.ccresa.net
SUMMARY:Foundations Session 5
DESCRIPTION:
URL:https://www.ccresa.net/session/foundations-session-5-4/
LOCATION:Clayton High School\, 600 S. Fayetteville St.\, Clayton\, NC\, 27520
CATEGORIES:Cohort #3
GEO:35.649933;-78.4653372
X-APPLE-STRUCTURED-LOCATION;VALUE=URI;X-ADDRESS=Clayton High School 600 S. Fayetteville St. Clayton NC 27520;X-APPLE-RADIUS=500;X-TITLE=600 S. Fayetteville St.:geo:-78.4653372,35.649933
END:VEVENT
BEGIN:VEVENT
DTSTART;TZID=America/New_York:20171012T170000
DTEND;TZID=America/New_York:20171012T200000
DTSTAMP:20260420T090302
CREATED:20170714T124529Z
LAST-MODIFIED:20170811T165746Z
UID:7660-1507827600-1507838400@www.ccresa.net
SUMMARY:Foundations Session 4
DESCRIPTION:
URL:https://www.ccresa.net/session/foundations-session-4-4/
LOCATION:Clayton High School\, 600 S. Fayetteville St.\, Clayton\, NC\, 27520
CATEGORIES:Cohort #3
GEO:35.649933;-78.4653372
X-APPLE-STRUCTURED-LOCATION;VALUE=URI;X-ADDRESS=Clayton High School 600 S. Fayetteville St. Clayton NC 27520;X-APPLE-RADIUS=500;X-TITLE=600 S. Fayetteville St.:geo:-78.4653372,35.649933
END:VEVENT
BEGIN:VEVENT
DTSTART;TZID=America/New_York:20170928T170000
DTEND;TZID=America/New_York:20170928T200000
DTSTAMP:20260420T090302
CREATED:20170714T124402Z
LAST-MODIFIED:20170811T165615Z
UID:7659-1506618000-1506628800@www.ccresa.net
SUMMARY:Foundations Session 3
DESCRIPTION:
URL:https://www.ccresa.net/session/foundations-session-3-4/
LOCATION:Clayton High School\, 600 S. Fayetteville St.\, Clayton\, NC\, 27520
CATEGORIES:Cohort #3
GEO:35.649933;-78.4653372
X-APPLE-STRUCTURED-LOCATION;VALUE=URI;X-ADDRESS=Clayton High School 600 S. Fayetteville St. Clayton NC 27520;X-APPLE-RADIUS=500;X-TITLE=600 S. Fayetteville St.:geo:-78.4653372,35.649933
END:VEVENT
BEGIN:VEVENT
DTSTART;TZID=America/New_York:20170914T170000
DTEND;TZID=America/New_York:20170914T200000
DTSTAMP:20260420T090302
CREATED:20170811T165427Z
LAST-MODIFIED:20170811T165427Z
UID:7729-1505408400-1505419200@www.ccresa.net
SUMMARY:Foundations Session 2
DESCRIPTION:
URL:https://www.ccresa.net/session/foundations-session-2-5/
LOCATION:Clayton High School\, 600 S. Fayetteville St.\, Clayton\, NC\, 27520
CATEGORIES:Cohort #3
GEO:35.649933;-78.4653372
X-APPLE-STRUCTURED-LOCATION;VALUE=URI;X-ADDRESS=Clayton High School 600 S. Fayetteville St. Clayton NC 27520;X-APPLE-RADIUS=500;X-TITLE=600 S. Fayetteville St.:geo:-78.4653372,35.649933
END:VEVENT
END:VCALENDAR